BEGIN:VCALENDAR
VERSION:2.0
PRODID:-//Casas Rurales El Verdinal - ECPv6.15.20//NONSGML v1.0//EN
CALSCALE:GREGORIAN
METHOD:PUBLISH
X-ORIGINAL-URL:https://elverdinal.es
X-WR-CALDESC:Eventos para Casas Rurales El Verdinal
REFRESH-INTERVAL;VALUE=DURATION:PT1H
X-Robots-Tag:noindex
X-PUBLISHED-TTL:PT1H
BEGIN:VTIMEZONE
TZID:Europe/Madrid
BEGIN:DAYLIGHT
TZOFFSETFROM:+0100
TZOFFSETTO:+0200
TZNAME:CEST
DTSTART:20240331T010000
END:DAYLIGHT
BEGIN:STANDARD
TZOFFSETFROM:+0200
TZOFFSETTO:+0100
TZNAME:CET
DTSTART:20241027T010000
END:STANDARD
BEGIN:DAYLIGHT
TZOFFSETFROM:+0100
TZOFFSETTO:+0200
TZNAME:CEST
DTSTART:20250330T010000
END:DAYLIGHT
BEGIN:STANDARD
TZOFFSETFROM:+0200
TZOFFSETTO:+0100
TZNAME:CET
DTSTART:20251026T010000
END:STANDARD
BEGIN:DAYLIGHT
TZOFFSETFROM:+0100
TZOFFSETTO:+0200
TZNAME:CEST
DTSTART:20260329T010000
END:DAYLIGHT
BEGIN:STANDARD
TZOFFSETFROM:+0200
TZOFFSETTO:+0100
TZNAME:CET
DTSTART:20261025T010000
END:STANDARD
END:VTIMEZONE
BEGIN:VEVENT
DTSTART;VALUE=DATE:20250628
DTEND;VALUE=DATE:20250629
DTSTAMP:20260420T161440
CREATED:20250421T200059Z
LAST-MODIFIED:20250421T200933Z
UID:4200-1751068800-1751155199@elverdinal.es
SUMMARY:Duque Sonora 2025
DESCRIPTION:Una nueva edición de Duque Sonora\, que se celebrará el próximo 28 de junio\, llenará de música y diversión  las calles de Villanueva del Duque.
URL:https://elverdinal.es/eventos/duque-sonora-2025/
LOCATION:Villanueva del Duque\, plaza Duque de Bejar
ATTACH;FMTTYPE=image/jpeg:https://elverdinal.es/wp-content/uploads/2025/04/Imagen-de-WhatsApp-2025-04-21-a-las-21.58.03_665c1ed8.jpg
END:VEVENT
BEGIN:VEVENT
DTSTART;TZID=Europe/Madrid:20250421T080000
DTEND;TZID=Europe/Madrid:20250427T170000
DTSTAMP:20260420T161440
CREATED:20250421T195142Z
LAST-MODIFIED:20250421T195142Z
UID:4198-1745222400-1745773200@elverdinal.es
SUMMARY:Feria Agroganadera y Agroalimentaria Valle de Los Pedroches
DESCRIPTION:Del 24 al 27 de abril Pozoblanco celebra la XXXI Feria Agroganadera y XXI Feria Agroalimentaria Valle de los Pedroches.
URL:https://elverdinal.es/eventos/feria-agroganadera-y-agroalimentaria-valle-de-los-pedroches/
LOCATION:Pozoblanco\, Pozoblanco\, Spain
ATTACH;FMTTYPE=image/jpeg:https://elverdinal.es/wp-content/uploads/2024/09/Imagen-de-WhatsApp-2025-04-21-a-las-21.10.10_2c7a2e41.jpg
END:VEVENT
END:VCALENDAR